BEGIN:VCALENDAR
VERSION:2.0
PRODID:-//hacksw/handcal//NONSGML v1.0//EN
BEGIN:VEVENT
SUMMARY:Chalenge du Centre La Riche (37)
UID:c4cdb55a-9127-4dbd-9923-8eb307d2e422
DTSTART:20260408T220000Z
DTEND:20260409T220000Z
LOCATION:Localisation  37520 LA RICHE
CATEGORIES:Sportif
STATUS:
DESCRIPTION:<p><span style="font-size:22px;"><strong><a
 href="https://colr37.sportsregions.fr/evenements/2026/04/18/challenge-du-centre-2026-2378240"
 target="_blank" rel="noreferrer noopener"><span
 style="color:#c0392b;">ICI: toutes les infos sur le Chalenge du
 Centre LA RICHE 37</span></a></strong></span></p>
URL;VALUE=URI:https://cyclotourisme-neuville.sportsregions.fr/evenements/2026/04/09/chalenge-du-centre-la-riche-37-2439458
END:VEVENT
END:VCALENDAR
