BEGIN:VCALENDAR
VERSION:2.0
PRODID:-//hacksw/handcal//NONSGML v1.0//EN
BEGIN:VEVENT
SUMMARY:St BENOIT SUR LOIRE "Rando du Patrimoine"
UID:15065d7d-5df5-41f8-8947-62d8f7fe4479
DTSTART:20260430T220000Z
DTEND:20260501T220000Z
LOCATION:Localisation   
CATEGORIES:Sportif
STATUS:
URL;VALUE=URI:https://cyclotourisme-neuville.sportsregions.fr/evenements/2026/05/01/st-benoit-sur-loire-rando-du-patrimoine-2439469
END:VEVENT
END:VCALENDAR
